BEGIN:VCALENDAR
VERSION:2.0
PRODID:icalendar-ruby
CALSCALE:GREGORIAN
METHOD:PUBLISH
BEGIN:VEVENT
DTSTAMP:20260420T151458Z
UID:3-265286@waymissions.com
DTSTART:20261004T150000Z
DTEND:20261004T170000Z
CLASS:PUBLIC
CREATED:20260420T090928
DESCRIPTION:We ministery wherever God opens doors. In churches\, in peoples
  homes\, at restaraunts everywhere we go\, we talk to people about Jesus! 
 Check our facebook page for upcoming events in your area. 
LAST-MODIFIED:20260420T090928
LOCATION:Location changes\, check our facebook page for more info. 
SUMMARY:Ministry
URL;VALUE=URI:https://www.waymissions.com/events/ministry/2026-10-04
ATTACH;FILENAME=ben-white-292680-unsplash.jpg;FMTTYPE=image/jpeg:https://dq
 5pwpg1q8ru0.cloudfront.net/2023/01/30/14/47/49/1ea90298-e398-48b5-b1d8-10d
 eb0b58797/ben-white-292680-unsplash.jpg
END:VEVENT
END:VCALENDAR
